BEGIN:VCALENDAR
VERSION:2.0
PRODID:-//Poorna Sudha Cancer Foundation - ECPv5.4.0.2//NONSGML v1.0//EN
CALSCALE:GREGORIAN
METHOD:PUBLISH
X-WR-CALNAME:Poorna Sudha Cancer Foundation
X-ORIGINAL-URL:https://www.poornasudha.org
X-WR-CALDESC:Events for Poorna Sudha Cancer Foundation
BEGIN:VTIMEZONE
TZID:UTC
BEGIN:STANDARD
TZOFFSETFROM:+0000
TZOFFSETTO:+0000
TZNAME:UTC
DTSTART:20190101T000000
END:STANDARD
END:VTIMEZONE
BEGIN:VEVENT
DTSTART;TZID=UTC:20191231T080000
DTEND;TZID=UTC:20191231T193000
DTSTAMP:20260424T124141
CREATED:20191230T195016Z
LAST-MODIFIED:20191231T072801Z
UID:2621-1577779200-1577820600@www.poornasudha.org
SUMMARY:test-event
DESCRIPTION:
URL:https://www.poornasudha.org/event/test-event/
ATTACH;FMTTYPE=image/png:https://www.poornasudha.org/wp-content/uploads/2019/12/Untitled-design-17.png
END:VEVENT
END:VCALENDAR